Workbook

Sheet Sheet1
A1: ABC PVT LTD
A2: The Mall Road, Near Ganj Bazar , Shimla (HP) - 177234
A3: Mob. : 9989484948, 88746849484
A5: Bill No. : | B5: =101 -> 101 | C5: Date : | D5: =TODAY() -> 45969
A6: Name :
A7: Contact :
A8: Address :
A10: Sr. No. | B10: Particulars | C10: Rate | D10: Qty | E10: Amount
A11: 1 | C11: =IFERROR(VLOOKUP(B11,Sheet2!$B$4:$C$7,2,0),"") | E11: =IFERROR(C11*D11,"")
C12: =IFERROR(VLOOKUP(B12,Sheet2!$B$4:$C$7,2,0),"") | E12: =IFERROR(C12*D12,"")
C13: =IFERROR(VLOOKUP(B13,Sheet2!$B$4:$C$7,2,0),"") | E13: =IFERROR(C13*D13,"")
C14: =IFERROR(VLOOKUP(B14,Sheet2!$B$4:$C$7,2,0),"") | E14: =IFERROR(C14*D14,"")
C15: =IFERROR(VLOOKUP(B15,Sheet2!$B$4:$C$7,2,0),"") | E15: =IFERROR(C15*D15,"")
C16: =IFERROR(VLOOKUP(B16,Sheet2!$B$4:$C$7,2,0),"") | E16: =IFERROR(C16*D16,"")
C17: =IFERROR(VLOOKUP(B17,Sheet2!$B$4:$C$7,2,0),"") | E17: =IFERROR(C17*D17,"")
C18: =IFERROR(VLOOKUP(B18,Sheet2!$B$4:$C$7,2,0),"") | E18: =IFERROR(C18*D18,"")
C19: =IFERROR(VLOOKUP(B19,Sheet2!$B$4:$C$7,2,0),"") | E19: =IFERROR(C19*D19,"")
C20: =IFERROR(VLOOKUP(B20,Sheet2!$B$4:$C$7,2,0),"") | E20: =IFERROR(C20*D20,"")
C21: =IFERROR(VLOOKUP(B21,Sheet2!$B$4:$C$7,2,0),"") | E21: =IFERROR(C21*D21,"")
C22: =IFERROR(VLOOKUP(B22,Sheet2!$B$4:$C$7,2,0),"") | E22: =IFERROR(C22*D22,"")
C23: =IFERROR(VLOOKUP(B23,Sheet2!$B$4:$C$7,2,0),"") | E23: =IFERROR(C23*D23,"")
... C26: =IFERROR(VLOOKUP(B26,Sheet2!$B$4:$C$7,2,0),"") | E26: =IFERROR(C26*D26,"")
C27: Total Amount | D27: =SUM(E11:E13) -> 0
C28: SGST 9% | D28: =D27*9% -> 0
C29: CGST 9% | D29: =D27*9% -> 0
C30: Grand Total | D30: =SUM(D27:E29) -> 0

Sheet Sheet2
B3: Item | C3: Rate
B4: Keyboard | C4: 210
B5: Mouse | C5: 110
B6: Monitor | C6: 5500
B7: DVD | C7: 1100
